BEGIN:VCALENDAR
VERSION:2.0
METHOD:PUBLISH
PRODID:-//Telerik Inc.//Sitefinity CMS 11.2//EN
BEGIN:VTIMEZONE
TZID:Eastern Standard Time
BEGIN:STANDARD
DTSTART:20201102T020000
RRULE:FREQ=YEARLY;BYDAY=1SU;BYHOUR=2;BYMINUTE=0;BYMONTH=11
TZNAME:Eastern Standard Time
TZOFFSETFROM:-0400
TZOFFSETTO:-0500
END:STANDARD
BEGIN:DAYLIGHT
DTSTART:20200301T020000
RRULE:FREQ=YEARLY;BYDAY=2SU;BYHOUR=2;BYMINUTE=0;BYMONTH=3
TZNAME:Eastern Daylight Time
TZOFFSETFROM:-0500
TZOFFSETTO:-0400
END:DAYLIGHT
END:VTIMEZONE
BEGIN:VEVENT
DESCRIPTION:Description\nFeaturing contemporary flute techniques\, the five
  and a half day workshop will consist of morning workshops which explore t
 echniques used in contemporary music\, afternoon chamber music sessions us
 ing these new techniques\, and evening masterclasses where individual perf
 ormers explore works from the new music repertoire.\nGuest Artist\nRobert 
 Dick and Melissa Keeling\nFee\n$ 725 - $890
DTEND:20210703T140000Z
DTSTAMP:20210501T002835Z
DTSTART:20210627T190000Z
LOCATION:Maggie Valley\, NC\,Robert Dick Contemporary Flute Retreat\, 55 Di
 ane Lane
SEQUENCE:0
SUMMARY:Robert Dick Contemporary Flute Week
UID:RFCALITEM637554077156503430
X-ALT-DESC;FMTTYPE=text/html:<h4>Description</h4>\nFeaturing contemporary f
 lute techniques\, the five and a half day workshop will consist of morning
  workshops which explore techniques used in contemporary music\, afternoon
  chamber music sessions using these new techniques\, and evening mastercla
 sses where individual performers explore works from the new music repertoi
 re.\n<h4>Guest Artist</h4>\nRobert Dick and Melissa Keeling\n<h4>Fee</h4>\
 n$ 725 - $890
END:VEVENT
END:VCALENDAR
