BEGIN:VCALENDAR
VERSION:2.0
METHOD:PUBLISH
PRODID:-//Telerik Inc.//Sitefinity CMS 11.2//EN
BEGIN:VTIMEZONE
TZID:Central Standard Time
BEGIN:STANDARD
DTSTART:20201102T020000
RRULE:FREQ=YEARLY;BYDAY=1SU;BYHOUR=2;BYMINUTE=0;BYMONTH=11
TZNAME:Central Standard Time
TZOFFSETFROM:-0500
TZOFFSETTO:-0600
END:STANDARD
BEGIN:DAYLIGHT
DTSTART:20200301T020000
RRULE:FREQ=YEARLY;BYDAY=2SU;BYHOUR=2;BYMINUTE=0;BYMONTH=3
TZNAME:Central Daylight Time
TZOFFSETFROM:-0600
TZOFFSETTO:-0500
END:DAYLIGHT
END:VTIMEZONE
BEGIN:VEVENT
DESCRIPTION:Description\nOur daily schedule includes: warm up\, technique\,
  electives\, masterclass (advanced class) and recitals. Our flootful days 
 cover flootastic topics such as breathing\, tone\, articulation\, intonati
 on\, vibrato\, technique\, stage presence\, practice habits\, performance 
 healthcare and much more! Three class levels available: Junior\, Senior\, 
 and Advanced\nFee\nJr/Sr $275\, Advanced $395
DTEND:20210702T221500Z
DTSTAMP:20210501T011639Z
DTSTART:20210628T160000Z
LOCATION:Virtual Event
SEQUENCE:0
SUMMARY:Floot Fire Virtual Floot Academy #1
UID:RFCALITEM637554105994093901
X-ALT-DESC;FMTTYPE=text/html:<h4>Description</h4>\nOur daily schedule inclu
 des: warm up\, technique\, electives\, masterclass (advanced class) and re
 citals. Our flootful days cover flootastic topics such as breathing\, tone
 \, articulation\, intonation\, vibrato\, technique\, stage presence\, prac
 tice habits\, performance healthcare and much more! Three class levels ava
 ilable: Junior\, Senior\, and Advanced\n<h4>Fee</h4>\nJr/Sr $275\, Advance
 d $395
END:VEVENT
END:VCALENDAR
