BEGIN:VCALENDAR
VERSION:2.0
METHOD:PUBLISH
PRODID:-//Telerik Inc.//Sitefinity CMS 11.2//EN
BEGIN:VEVENT
DESCRIPTION:Description\nVirtual Flute Music Festival is a fully online mus
 ic festival for advanced flutists. Our goal is to provide world-class inst
 ruction to motivated flutists via a well-designed online festival that foc
 uses both on expertise in playing and courageous thinking through mindset 
 training. Apply through Acceptd by May 1\nGuest Artist\nKayla Burggraf\, L
 eone Buyse\, Marianne Gedigian\, Jennifer Rosenfeld\, Elizabeth Rowe\, Son
 ora Slocum\, Mark Sparks\, Sharon Sparrow\, Linda Toote\, Jim Walker
DTEND;VALUE=DATE:20210717
DTSTAMP:20210501T002815Z
DTSTART;VALUE=DATE:20210621
LOCATION:Virtual Event\,Austin\, TX
SEQUENCE:0
SUMMARY:Virtual Flute Music Festival
UID:RFCALITEM637554076957127332
X-ALT-DESC;FMTTYPE=text/html:<h4>Description</h4>\nVirtual Flute Music Fest
 ival is a fully online music festival for advanced flutists. Our goal is t
 o provide world-class instruction to motivated flutists via a well-designe
 d online festival that focuses both on expertise in playing and courageous
  thinking through mindset training. Apply through Acceptd by May 1\n<h4>Gu
 est Artist</h4>\nKayla Burggraf\, Leone Buyse\, Marianne Gedigian\, Jennif
 er Rosenfeld\, Elizabeth Rowe\, Sonora Slocum\, Mark Sparks\, Sharon Sparr
 ow\, Linda Toote\, Jim Walker
END:VEVENT
END:VCALENDAR
