BEGIN:VCALENDAR
VERSION:2.0
METHOD:PUBLISH
PRODID:-//Telerik Inc.//Sitefinity CMS 11.2//EN
BEGIN:VEVENT
DESCRIPTION:Description\nVirtual learning together with the world-renowned 
 School of Music faculty featuring masterclasses\, private lessons\, score 
 study sessions\, various musical discussions\, college audition Q &amp\; A
  session\, and much more!\nGuest Artist\nStefan Hoskuldsson\, Alyce Johnso
 n\, Jenny Shin
DTEND;VALUE=DATE:20210703
DTSTAMP:20210501T011626Z
DTSTART;VALUE=DATE:20210628
LOCATION:Virtual Event
SEQUENCE:0
SUMMARY:DePaul Virtual Summer Flute Intensive
UID:RFCALITEM637554105866731547
X-ALT-DESC;FMTTYPE=text/html:<h4>Description</h4>\nVirtual learning togethe
 r with the world-renowned School of Music faculty featuring masterclasses\
 , private lessons\, score study sessions\, various musical discussions\, c
 ollege audition Q &amp\; A session\, and much more!\n<h4>Guest Artist</h4>
 \nStefan Hoskuldsson\, Alyce Johnson\, Jenny Shin
END:VEVENT
END:VCALENDAR
