BEGIN:VCALENDAR
VERSION:2.0
METHOD:PUBLISH
PRODID:-//Telerik Inc.//Sitefinity CMS 11.2//EN
BEGIN:VEVENT
DESCRIPTION:Description\nAn Essential PIFR Online Experience June 25- July 
 2 Explore the physical\, mental\, and emotional aspects of flute performan
 ce and pedagogy. Apply Online by March 1\, 2021 6 weeks of Pre-PIFR prep a
 nd Retreat week included in fees. No application fees! Scholarships\, Fell
 owships\, Bursaries available.\nGuest Artist\nWilliam Bennett and Lorna Mc
 Ghee
DTEND;VALUE=DATE:20210703
DTSTAMP:20210501T002824Z
DTSTART;VALUE=DATE:20210625
LOCATION:Virtual Event
SEQUENCE:0
SUMMARY:Pender Island Flute Retreat
UID:RFCALITEM637554077045873989
X-ALT-DESC;FMTTYPE=text/html:<h4>Description</h4>\nAn Essential PIFR Online
  Experience June 25- July 2 Explore the physical\, mental\, and emotional 
 aspects of flute performance and pedagogy. Apply Online by March 1\, 2021 
 6 weeks of Pre-PIFR prep and Retreat week included in fees. No application
  fees! Scholarships\, Fellowships\, Bursaries available.\n<h4>Guest Artist
 </h4>\nWilliam Bennett and Lorna McGhee
END:VEVENT
END:VCALENDAR
